BEGIN:VCALENDAR
VERSION:2.0
PRODID:-//Camaro 67 - ECPv6.2.2//NONSGML v1.0//EN
CALSCALE:GREGORIAN
METHOD:PUBLISH
X-WR-CALNAME:Camaro 67
X-ORIGINAL-URL:http://www.camaro67music.com
X-WR-CALDESC:Events for Camaro 67
REFRESH-INTERVAL;VALUE=DURATION:PT1H
X-Robots-Tag:noindex
X-PUBLISHED-TTL:PT1H
BEGIN:VTIMEZONE
TZID:America/Vancouver
BEGIN:DAYLIGHT
TZOFFSETFROM:-0800
TZOFFSETTO:-0700
TZNAME:PDT
DTSTART:20240310T100000
END:DAYLIGHT
BEGIN:STANDARD
TZOFFSETFROM:-0700
TZOFFSETTO:-0800
TZNAME:PST
DTSTART:20241103T090000
END:STANDARD
END:VTIMEZONE
BEGIN:VEVENT
DTSTART;TZID=America/Vancouver:20240615T143000
DTEND;TZID=America/Vancouver:20240615T153000
DTSTAMP:20260421T122909
CREATED:20240605T165426Z
LAST-MODIFIED:20240605T165638Z
UID:471-1718461800-1718465400@www.camaro67music.com
SUMMARY:Camaro 67 @ Gibsons Landing Jazz Festival
DESCRIPTION:
URL:http://www.camaro67music.com/event/camaro-67-gibsons-landing-jazz-festival/
LOCATION:Hackett Park\, 5765 Dolphin Street\, Sechelt\, BC\, Canada
END:VEVENT
BEGIN:VEVENT
DTSTART;TZID=America/Vancouver:20240629T200000
DTEND;TZID=America/Vancouver:20240629T213000
DTSTAMP:20260421T122909
CREATED:20240605T165941Z
LAST-MODIFIED:20240605T165941Z
UID:474-1719691200-1719696600@www.camaro67music.com
SUMMARY:Camaro 67 @ Tofino Jazz Festival
DESCRIPTION:
URL:http://www.camaro67music.com/event/camaro-67-tofino-jazz-festival/
LOCATION:Tofino Village Green\, 381 Campbell Street\, Tofino\, BC\, Canada
END:VEVENT
END:VCALENDAR